BEGIN:VCALENDAR
VERSION:2.0
METHOD:PUBLISH
BEGIN:VEVENT
ORGANIZER:MAILTO:
DTSTART:20190227T020000U
DTEND:20190227T040000U
LOCATION:Ivy Street Coworking, 2986 Ivy St,San Diego,CA,92104
UID:20260420T051409U@reddoor.biz
DTSTAMP:20260420T051409U
SUMMARY:Demystifying the Employee Experience
PRIORITY:5
CLASS:PUBLIC
X-ALT-DESC:Demystifying the Employee Experience
DESCRIPTION:Demystifying the Employee Experience
END:VEVENT
END:VCALENDAR