BEGIN:VCALENDAR
VERSION:2.0
METHOD:PUBLISH
BEGIN:VEVENT
ORGANIZER:MAILTO:
DTSTART:20190123T180000U
DTEND:20190123T190000U
LOCATION:San Diego,CA
UID:20260420T051234U@reddoor.biz
DTSTAMP:20260420T051234U
SUMMARY:Closing the Deal: Bottom Funnel SEO That Converts
PRIORITY:5
CLASS:PUBLIC
X-ALT-DESC:Closing the Deal: Bottom Funnel SEO That Converts
DESCRIPTION:Closing the Deal: Bottom Funnel SEO That Converts
END:VEVENT
END:VCALENDAR